BEGIN:VCALENDAR
VERSION:2.0
PRODID:-//Blasorchester Sintfeld-Echo Haaren e.V. - ECPv6.7.0//NONSGML v1.0//EN
CALSCALE:GREGORIAN
METHOD:PUBLISH
X-WR-CALNAME:Blasorchester Sintfeld-Echo Haaren e.V.
X-ORIGINAL-URL:https://blog.sintfeld-echo.de
X-WR-CALDESC:Veranstaltungen für Blasorchester Sintfeld-Echo Haaren e.V.
REFRESH-INTERVAL;VALUE=DURATION:PT1H
X-Robots-Tag:noindex
X-PUBLISHED-TTL:PT1H
BEGIN:VTIMEZONE
TZID:Europe/Berlin
BEGIN:DAYLIGHT
TZOFFSETFROM:+0100
TZOFFSETTO:+0200
TZNAME:CEST
DTSTART:20260329T010000
END:DAYLIGHT
BEGIN:STANDARD
TZOFFSETFROM:+0200
TZOFFSETTO:+0100
TZNAME:CET
DTSTART:20261025T010000
END:STANDARD
END:VTIMEZONE
BEGIN:VEVENT
DTSTART;TZID=Europe/Berlin:20260607T144500
DTEND;TZID=Europe/Berlin:20260607T233000
DTSTAMP:20260423T140006
CREATED:20260109T180824Z
LAST-MODIFIED:20260109T180824Z
UID:1431-1780843500-1780875000@blog.sintfeld-echo.de
SUMMARY:Jubiläum
DESCRIPTION:
URL:https://blog.sintfeld-echo.de/event/jubilaeum/
CATEGORIES:Auftritte
END:VEVENT
BEGIN:VEVENT
DTSTART;VALUE=DATE:20260613
DTEND;VALUE=DATE:20260614
DTSTAMP:20260423T140006
CREATED:20260109T181023Z
LAST-MODIFIED:20260109T181023Z
UID:1433-1781308800-1781395199@blog.sintfeld-echo.de
SUMMARY:Kinderschützenfest Haaren
DESCRIPTION:
URL:https://blog.sintfeld-echo.de/event/kinderschuetzenfest-haaren/
CATEGORIES:Auftritte
END:VEVENT
BEGIN:VEVENT
DTSTART;VALUE=DATE:20260614
DTEND;VALUE=DATE:20260615
DTSTAMP:20260423T140006
CREATED:20260109T181056Z
LAST-MODIFIED:20260109T181056Z
UID:1435-1781395200-1781481599@blog.sintfeld-echo.de
SUMMARY:Vitus-Prozession
DESCRIPTION:
URL:https://blog.sintfeld-echo.de/event/vitus-prozession/
CATEGORIES:Auftritte
END:VEVENT
BEGIN:VEVENT
DTSTART;VALUE=DATE:20260620
DTEND;VALUE=DATE:20260621
DTSTAMP:20260423T140006
CREATED:20260109T181150Z
LAST-MODIFIED:20260109T181150Z
UID:1437-1781913600-1781999999@blog.sintfeld-echo.de
SUMMARY:Vogelschießen Haaren
DESCRIPTION:
URL:https://blog.sintfeld-echo.de/event/vogelschiessen-haaren/
CATEGORIES:Auftritte
END:VEVENT
BEGIN:VEVENT
DTSTART;VALUE=DATE:20260620
DTEND;VALUE=DATE:20260621
DTSTAMP:20260423T140006
CREATED:20260109T181222Z
LAST-MODIFIED:20260109T181222Z
UID:1439-1781913600-1781999999@blog.sintfeld-echo.de
SUMMARY:Veranstaltung intern
DESCRIPTION:
URL:https://blog.sintfeld-echo.de/event/veranstaltung-intern/
CATEGORIES:Auftritte
END:VEVENT
BEGIN:VEVENT
DTSTART;VALUE=DATE:20260628
DTEND;VALUE=DATE:20260630
DTSTAMP:20260423T140006
CREATED:20260109T181255Z
LAST-MODIFIED:20260109T181255Z
UID:1441-1782604800-1782777599@blog.sintfeld-echo.de
SUMMARY:Schützenfest Steinhausen
DESCRIPTION:
URL:https://blog.sintfeld-echo.de/event/schuetzenfest-steinhausen/
CATEGORIES:Auftritte
END:VEVENT
BEGIN:VEVENT
DTSTART;VALUE=DATE:20260704
DTEND;VALUE=DATE:20260707
DTSTAMP:20260423T140006
CREATED:20260109T181326Z
LAST-MODIFIED:20260109T181326Z
UID:1443-1783123200-1783382399@blog.sintfeld-echo.de
SUMMARY:Schützenfest Haaren
DESCRIPTION:
URL:https://blog.sintfeld-echo.de/event/schuetzenfest-haaren/
CATEGORIES:Auftritte
END:VEVENT
BEGIN:VEVENT
DTSTART;VALUE=DATE:20260711
DTEND;VALUE=DATE:20260713
DTSTAMP:20260423T140006
CREATED:20260109T181352Z
LAST-MODIFIED:20260109T181352Z
UID:1445-1783728000-1783900799@blog.sintfeld-echo.de
SUMMARY:Schützenfest Essentho
DESCRIPTION:
URL:https://blog.sintfeld-echo.de/event/schuetzenfest-essentho/
CATEGORIES:Auftritte
END:VEVENT
BEGIN:VEVENT
DTSTART;VALUE=DATE:20260906
DTEND;VALUE=DATE:20260907
DTSTAMP:20260423T140006
CREATED:20260109T181418Z
LAST-MODIFIED:20260109T181418Z
UID:1447-1788652800-1788739199@blog.sintfeld-echo.de
SUMMARY:Kreisschützenfest Salzkotten
DESCRIPTION:
URL:https://blog.sintfeld-echo.de/event/kreisschuetzenfest-salzkotten/
CATEGORIES:Auftritte
END:VEVENT
BEGIN:VEVENT
DTSTART;VALUE=DATE:20260912
DTEND;VALUE=DATE:20260913
DTSTAMP:20260423T140006
CREATED:20260109T181526Z
LAST-MODIFIED:20260109T181526Z
UID:1449-1789171200-1789257599@blog.sintfeld-echo.de
SUMMARY:Königsbier Haaren
DESCRIPTION:
URL:https://blog.sintfeld-echo.de/event/koenigsbier-haaren/
CATEGORIES:Auftritte
END:VEVENT
BEGIN:VEVENT
DTSTART;VALUE=DATE:20261108
DTEND;VALUE=DATE:20261109
DTSTAMP:20260423T140006
CREATED:20260109T181553Z
LAST-MODIFIED:20260109T181553Z
UID:1451-1794096000-1794182399@blog.sintfeld-echo.de
SUMMARY:St. Martin
DESCRIPTION:
URL:https://blog.sintfeld-echo.de/event/st-martin/
CATEGORIES:Auftritte
END:VEVENT
BEGIN:VEVENT
DTSTART;VALUE=DATE:20261225
DTEND;VALUE=DATE:20261226
DTSTAMP:20260423T140006
CREATED:20260109T181618Z
LAST-MODIFIED:20260109T181618Z
UID:1453-1798156800-1798243199@blog.sintfeld-echo.de
SUMMARY:Weihnachtslieder
DESCRIPTION:
URL:https://blog.sintfeld-echo.de/event/weihnachtslieder/
CATEGORIES:Auftritte
END:VEVENT
END:VCALENDAR